BEGIN:VCALENDAR
PRODID:http://wibix.de/infusions/pro_download_panel/download.php?did=27
VERSION:2.0
METHOD:PUBLISH
BEGIN:VEVENT
DTSTART:20200124T174500Z
DTEND:20200124T225900Z
UID:604@http://www.mv-betzenweiler.de/cms/
DTSTAMP:20200122T140747Z
DESCRIPTION:-
SUMMARY:50er Hubert Kettnaker
LOCATION:Alter Kuhstall Kettnakers
CLASS:PUBLIC
END:VEVENT
END:VCALENDAR
